BEGIN:VCALENDAR
VERSION:2.0
PRODID:-//Murf&#039;s Code Classes - ECPv6.15.20//NONSGML v1.0//EN
CALSCALE:GREGORIAN
METHOD:PUBLISH
X-WR-CALNAME:Murf&#039;s Code Classes
X-ORIGINAL-URL:https://murfscodeclasses.com
X-WR-CALDESC:Events for Murf&#039;s Code Classes
REFRESH-INTERVAL;VALUE=DURATION:PT1H
X-Robots-Tag:noindex
X-PUBLISHED-TTL:PT1H
BEGIN:VTIMEZONE
TZID:UTC
BEGIN:STANDARD
TZOFFSETFROM:+0000
TZOFFSETTO:+0000
TZNAME:UTC
DTSTART:20210101T000000
END:STANDARD
END:VTIMEZONE
BEGIN:VEVENT
DTSTART;TZID=UTC:20220326T073000
DTEND;TZID=UTC:20220327T170000
DTSTAMP:20260423T102401
CREATED:20211215T203723Z
LAST-MODIFIED:20220119T182510Z
UID:427-1648279800-1648400400@murfscodeclasses.com
SUMMARY:Middleboro\, MA – 15 Hour NEC Code Course
DESCRIPTION:This class meets the requirements for 15 hours of National Electrical Code (NEC) training for the code cycle ending July 31\, 2022. Review changes to the National Electrical Code and the Massachusetts Electrical Code from instructors with practical industry experience. \nFEE = $195\nIncludes course material\, morning coffee\, and pastry. \nNOTE: Registration begins at 7:30 am and class begins promptly at 8:00 am.  Class is held Saturday and Sunday. \nTo register\, visit our Registration page
URL:https://murfscodeclasses.com/classes/middleboro-ma-15-hour-nec-code-course/
LOCATION:Mitchell Memorial Club\, 29 Elm Street\, Middleboro
CATEGORIES:15-Hour NEC Code Course
END:VEVENT
END:VCALENDAR