BEGIN:VCALENDAR
VERSION:2.0
PRODID:-//Murf&#039;s Code Classes - ECPv6.15.20//NONSGML v1.0//EN
CALSCALE:GREGORIAN
METHOD:PUBLISH
X-ORIGINAL-URL:https://murfscodeclasses.com
X-WR-CALDESC:Events for Murf&#039;s Code Classes
REFRESH-INTERVAL;VALUE=DURATION:PT1H
X-Robots-Tag:noindex
X-PUBLISHED-TTL:PT1H
BEGIN:VTIMEZONE
TZID:UTC
BEGIN:STANDARD
TZOFFSETFROM:+0000
TZOFFSETTO:+0000
TZNAME:UTC
DTSTART:20210101T000000
END:STANDARD
END:VTIMEZONE
BEGIN:VEVENT
DTSTART;TZID=UTC:20220404T170000
DTEND;TZID=UTC:20220411T210000
DTSTAMP:20260423T084021
CREATED:20211215T204112Z
LAST-MODIFIED:20220112T170827Z
UID:429-1649091600-1649710800@murfscodeclasses.com
SUMMARY:ZOOM – 15 Hour NEC Code Course
DESCRIPTION:This class meets the requirements for 15 hours of National Electrical Code (NEC) training for the code cycle ending July 31\, 2022. Review changes to the National Electrical Code and the Massachusetts Electrical Code from instructors with practical industry experience. \nFEE = $195\nIncludes course material \nNOTE: ONLINE LIVE CLASS ON ZOOM Two Weeknights: Monday (April 4th and April 6th) and Wednesday (April 11th and April 13th) from 5:00 p.m. – 9:00 p.m. \nTo register\, visit our Registration page
URL:https://murfscodeclasses.com/classes/zoom-15-hour-nec-code-course/
LOCATION:Zoom
CATEGORIES:15-Hour NEC Code Course
END:VEVENT
END:VCALENDAR