BEGIN:VCALENDAR
VERSION:2.0
PRODID:-//Murf&#039;s Code Classes - ECPv6.15.20//NONSGML v1.0//EN
CALSCALE:GREGORIAN
METHOD:PUBLISH
X-ORIGINAL-URL:https://murfscodeclasses.com
X-WR-CALDESC:Events for Murf&#039;s Code Classes
REFRESH-INTERVAL;VALUE=DURATION:PT1H
X-Robots-Tag:noindex
X-PUBLISHED-TTL:PT1H
BEGIN:VTIMEZONE
TZID:UTC
BEGIN:STANDARD
TZOFFSETFROM:+0000
TZOFFSETTO:+0000
TZNAME:UTC
DTSTART:20220101T000000
END:STANDARD
END:VTIMEZONE
BEGIN:VEVENT
DTSTART;TZID=UTC:20231022T070000
DTEND;TZID=UTC:20231022T140000
DTSTAMP:20260422T034404
CREATED:20230825T170003Z
LAST-MODIFIED:20230825T170003Z
UID:689-1697958000-1697983200@murfscodeclasses.com
SUMMARY:6 Hour Professional Development - Rockland MA
DESCRIPTION:6 Hour Course Content – DESIGN/BUILD \n\nCodes pertaining to designing/constructing a building.\nRequired paperwork and calculation for a design build\nCalculations needed\, such as COM Check\, Service\, Voltage Drop and Short Circuit\nDrawing requirements: life safety\, emergency lighting\, fire alarm\nFire Alarm Design\nStretch Code and it’s impact\n\nSunday\, October 22\, 2023 from 7:30 am – 2:00 pm
URL:https://murfscodeclasses.com/classes/6-hour-professional-development-rockland-ma/
LOCATION:Rockland Eagles #841\, 29 Park Street\, Rockland\, MA\, 02370\, United States
END:VEVENT
END:VCALENDAR