BEGIN:VCALENDAR
VERSION:2.0
PRODID:-//Murf&#039;s Code Classes - ECPv6.15.20//NONSGML v1.0//EN
CALSCALE:GREGORIAN
METHOD:PUBLISH
X-ORIGINAL-URL:https://murfscodeclasses.com
X-WR-CALDESC:Events for Murf&#039;s Code Classes
REFRESH-INTERVAL;VALUE=DURATION:PT1H
X-Robots-Tag:noindex
X-PUBLISHED-TTL:PT1H
BEGIN:VTIMEZONE
TZID:UTC
BEGIN:STANDARD
TZOFFSETFROM:+0000
TZOFFSETTO:+0000
TZNAME:UTC
DTSTART:20230101T000000
END:STANDARD
END:VTIMEZONE
BEGIN:VEVENT
DTSTART;TZID=UTC:20240108T173000
DTEND;TZID=UTC:20240109T203000
DTSTAMP:20260421T225914
CREATED:20230825T170554Z
LAST-MODIFIED:20230825T170554Z
UID:695-1704735000-1704832200@murfscodeclasses.com
SUMMARY:6 Hour Professional Development - Virtual
DESCRIPTION:6 Hour Course Content – DESIGN/BUILD \n\nCodes pertaining to designing/constructing a building.\nRequired paperwork and calculation for a design build\nCalculations needed\, such as COM Check\, Service\, Voltage Drop and Short Circuit\nDrawing requirements: life safety\, emergency lighting\, fire alarm\nFire Alarm Design\nStretch Code and it’s impact\n\nTwo weeknights from 5:30 PM – 8:30 PM \nJanuary 8 & 9\, 2024
URL:https://murfscodeclasses.com/classes/6-hour-professional-development-virtual/
LOCATION:Zoom
END:VEVENT
END:VCALENDAR