BEGIN:VCALENDAR
VERSION:2.0
PRODID:-//Murf&#039;s Code Classes - ECPv6.15.20//NONSGML v1.0//EN
CALSCALE:GREGORIAN
METHOD:PUBLISH
X-ORIGINAL-URL:https://murfscodeclasses.com
X-WR-CALDESC:Events for Murf&#039;s Code Classes
REFRESH-INTERVAL;VALUE=DURATION:PT1H
X-Robots-Tag:noindex
X-PUBLISHED-TTL:PT1H
BEGIN:VTIMEZONE
TZID:UTC
BEGIN:STANDARD
TZOFFSETFROM:+0000
TZOFFSETTO:+0000
TZNAME:UTC
DTSTART:20210101T000000
END:STANDARD
END:VTIMEZONE
BEGIN:VEVENT
DTSTART;TZID=UTC:20220511T173000
DTEND;TZID=UTC:20220518T203000
DTSTAMP:20260421T183226
CREATED:20211216T141204Z
LAST-MODIFIED:20220510T153151Z
UID:446-1652290200-1652905800@murfscodeclasses.com
SUMMARY:Zoom - 6 Hour Professional Development
DESCRIPTION:6 Hour Course Content –  \nUnderstanding Arc Flash Hazards:  Review OSHA 1910 & 1926 (Subpart V) standards\, as it relates to working on exposed energize parts. We will review the process in creating  an Energized electrical work permit and review what type of Personal Protection Equipment (PPE) is to be used. We will also review Article 130 within the National Fire Protection Association (NFPA)-70E – “Standard for Electrical Safety in the Workplace” requirements. We will also review how to perform the arc flash calculation in determining the proper PPE that is required for the task. \nGenerators 101: Review automatic transfer switches\, sizing of the generator\, and the emission requirements of emergency generators. \nFEE = $125 ($25.00 discount if you take both classes with us during in the Current Code Cycle)\nIncludes course material \nNOTE: ONLINE LIVE CLASS ON ZOOM Two Weeknights: Wednesday (May 11 and May 18) \nCall 508-380-5765 if you have any trouble. \nTo register\, visit our Registration page
URL:https://murfscodeclasses.com/classes/zoom-6-hour-professional-development/
LOCATION:Zoom
CATEGORIES:6-Hour Professional Development
END:VEVENT
END:VCALENDAR