BEGIN:VCALENDAR
VERSION:2.0
PRODID:-//Murf&#039;s Code Classes - ECPv6.15.20//NONSGML v1.0//EN
CALSCALE:GREGORIAN
METHOD:PUBLISH
X-WR-CALNAME:Murf&#039;s Code Classes
X-ORIGINAL-URL:https://murfscodeclasses.com
X-WR-CALDESC:Events for Murf&#039;s Code Classes
REFRESH-INTERVAL;VALUE=DURATION:PT1H
X-Robots-Tag:noindex
X-PUBLISHED-TTL:PT1H
BEGIN:VTIMEZONE
TZID:UTC
BEGIN:STANDARD
TZOFFSETFROM:+0000
TZOFFSETTO:+0000
TZNAME:UTC
DTSTART:20210101T000000
END:STANDARD
END:VTIMEZONE
BEGIN:VEVENT
DTSTART;TZID=UTC:20220205T073000
DTEND;TZID=UTC:20220206T153000
DTSTAMP:20260419T121949
CREATED:20200104T171843Z
LAST-MODIFIED:20220119T182756Z
UID:115-1644046200-1644161400@murfscodeclasses.com
SUMMARY:Sturbridge\, MA – 15 Hour NEC Code Course
DESCRIPTION:This class meets the requirements for 15 hours of National Electrical Code (NEC) training for the code cycle ending July 31\, 2022. Review changes to the National Electrical Code and the Massachusetts Electrical Code from instructors with practical industry experience. \nFEE = $195\nIncludes course material\, morning coffee\, and pastry. \nNOTE: Registration begins at 7:30 am and Class begins promptly at 8:00 am.  Class held Saturday and Sunday. \nTo register\, visit our Registration page.
URL:https://murfscodeclasses.com/classes/rockalnd-ma-15-hour-nec-code-course/
LOCATION:Sturbridge Host\, 366 Main Street\, Sturbridge\, MA\, United States
CATEGORIES:15-Hour NEC Code Course
END:VEVENT
BEGIN:VEVENT
DTSTART;TZID=UTC:20220122T073000
DTEND;TZID=UTC:20220123T153000
DTSTAMP:20260419T121949
CREATED:20200104T171751Z
LAST-MODIFIED:20220119T182615Z
UID:113-1642836600-1642951800@murfscodeclasses.com
SUMMARY:Rockland\, MA-15 Hour NEC Code Course
DESCRIPTION:This class meets the requirements for 15 hours of National Electrical Code (NEC) training for the code cycle ending July 31\, 2022. Review changes to the National Electrical Code and the Massachusetts Electrical Code from instructors with practical industry experience. \nFEE = $195\nIncludes course material\, morning coffee. \nNOTE: Registration begins at 7:30 am and class begins promptly at 8:00 am.  Class is held Saturday and Sunday. \nTo register\, visit our Registration page.
URL:https://murfscodeclasses.com/classes/rockland-ma-15-hour-nec-code-course/
LOCATION:Players Sports Club\, 86 VFW Drive\, Rockland\, MA\, United States
CATEGORIES:15-Hour NEC Code Course
END:VEVENT
END:VCALENDAR