BEGIN:VCALENDAR
VERSION:2.0
PRODID:-//Murf&#039;s Code Classes - ECPv6.15.20//NONSGML v1.0//EN
CALSCALE:GREGORIAN
METHOD:PUBLISH
X-WR-CALNAME:Murf&#039;s Code Classes
X-ORIGINAL-URL:https://murfscodeclasses.com
X-WR-CALDESC:Events for Murf&#039;s Code Classes
REFRESH-INTERVAL;VALUE=DURATION:PT1H
X-Robots-Tag:noindex
X-PUBLISHED-TTL:PT1H
BEGIN:VTIMEZONE
TZID:UTC
BEGIN:STANDARD
TZOFFSETFROM:+0000
TZOFFSETTO:+0000
TZNAME:UTC
DTSTART:20230101T000000
END:STANDARD
END:VTIMEZONE
BEGIN:VEVENT
DTSTART;TZID=UTC:20240302T073000
DTEND;TZID=UTC:20240303T163000
DTSTAMP:20260421T182415
CREATED:20230825T162156Z
LAST-MODIFIED:20230825T162156Z
UID:674-1709364600-1709483400@murfscodeclasses.com
SUMMARY:15 Hour NEC Review - Dedham\, MA
DESCRIPTION:15 Hour National Electrical Code Recertification Class:  2023-2025 Code Cycle \nInstructors licensed in MA\, RI\, NH\, VT\, ME \nCourse approved for Masters\, Journeyman\, C & D License holders \nThis class meets the requirements for 15 hours of National Electrical Code (NEC) training for the code cycle ending July 31\, 2025.  Review changes to the National Electrical Code and the Massachusetts Electrical Code from instructors with practical industry experience. \nMassachusetts requires 15 hour code change training and 6 hours of professional development per code cycle to renew your license in 2025. \nNew Hampshire requires 15 hour code change training prior to December 21\, 2023 or prior to the date of your renewal if that comes first. \nClasses are held Saturday and Sunday.  Registration begins at 7:30 am and class begins at 8:00 am on Saturday. \n 
URL:https://murfscodeclasses.com/classes/15-hour-nec-review-dedham-ma/
LOCATION:Holiday Inn\, 55 Ariadne Road\, Dedham\, MA\, United States
END:VEVENT
BEGIN:VEVENT
DTSTART;TZID=UTC:20240311T170000
DTEND;TZID=UTC:20240319T210000
DTSTAMP:20260421T182415
CREATED:20230825T163052Z
LAST-MODIFIED:20230825T163052Z
UID:678-1710176400-1710882000@murfscodeclasses.com
SUMMARY:15 Hour NEC Review - Virtual Class 2024
DESCRIPTION:15 Hour National Electrical Code Recertification Class:  2023-2025 Code Cycle \nInstructors licensed in MA\, RI\, NH\, VT\, ME \nCourse approved for Masters\, Journeyman\, C & D License holders \nThis class meets the requirements for 15 hours of National Electrical Code (NEC) training for the code cycle ending July 31\, 2025.  Review changes to the National Electrical Code and the Massachusetts Electrical Code from instructors with practical industry experience. \nMassachusetts requires 15 hour code change training and 6 hours of professional development per code cycle to renew your license in 2025. \nNew Hampshire requires 15 hour code change training prior to December 21\, 2023 or prior to the date of your renewal if that comes first. \nClasses are held on Zoom\, four weeknights from 5:00 pm – 9:00 pm.   This class meets: \nMarch 11\, 12\, 18\, 19\, 2024 \nRegistration link will be sent prior to event.  You must be present for all four evenings.  A camera is required to be on for the duration of the class to receive credit. \n 
URL:https://murfscodeclasses.com/classes/15-hour-nec-review-virtual-class-2024/
LOCATION:Zoom
END:VEVENT
BEGIN:VEVENT
DTSTART;TZID=UTC:20240330T070000
DTEND;TZID=UTC:20240330T140000
DTSTAMP:20260421T182415
CREATED:20230825T170322Z
LAST-MODIFIED:20230825T170322Z
UID:693-1711782000-1711807200@murfscodeclasses.com
SUMMARY:6 Hour Professional Development - Dedham\, MA
DESCRIPTION:6 Hour Course Content – DESIGN/BUILD \n\nCodes pertaining to designing/constructing a building.\nRequired paperwork and calculation for a design build\nCalculations needed\, such as COM Check\, Service\, Voltage Drop and Short Circuit\nDrawing requirements: life safety\, emergency lighting\, fire alarm\nFire Alarm Design\nStretch Code and it’s impact\n\nSaturday\, March 30\, 2024 from 7:30 am – 2:00 pm
URL:https://murfscodeclasses.com/classes/6-hour-professional-development-dedham-ma/
LOCATION:Holiday Inn\, 55 Ariadne Road\, Dedham\, MA\, United States
END:VEVENT
END:VCALENDAR